Package: MEAL Version: 1.39.0 Command: chmod a+r MEAL -R && F:\biocbuild\bbs-3.22-bioc\R\bin\R.exe CMD build --keep-empty-dirs --no-resave-data MEAL StartedAt: 2025-07-22 20:09:50 -0400 (Tue, 22 Jul 2025) EndedAt: 2025-07-22 20:19:19 -0400 (Tue, 22 Jul 2025) EllapsedTime: 569.2 seconds RetCode: 0 Status: OK PackageFile: MEAL_1.39.0.tar.gz PackageFileSize: 1.014 MiB