Package: MEAL Version: 1.39.0 Command: rm -rf MEAL.buildbin-libdir && mkdir MEAL.buildbin-libdir && F:\biocbuild\bbs-3.22-bioc\R\bin\R.exe CMD INSTALL --build --library=MEAL.buildbin-libdir MEAL_1.39.0.tar.gz StartedAt: 2025-07-23 09:29:45 -0400 (Wed, 23 Jul 2025) EndedAt: 2025-07-23 09:30:41 -0400 (Wed, 23 Jul 2025) EllapsedTime: 56.4 seconds RetCode: 0 Status: OK PackageFile: MEAL_1.39.0.zip PackageFileSize: 1.094 MiB