Package: MEAL Version: 1.39.0 Command: /Library/Frameworks/R.framework/Resources/bin/R CMD INSTALL MEAL StartedAt: 2025-07-15 16:05:15 -0400 (Tue, 15 Jul 2025) EndedAt: 2025-07-15 16:05:47 -0400 (Tue, 15 Jul 2025) EllapsedTime: 32.2 seconds RetCode: 0 Status: OK