Package: MEAL Version: 1.39.0 Command: /Library/Frameworks/R.framework/Resources/bin/R CMD build --keep-empty-dirs --no-resave-data MEAL StartedAt: 2025-07-16 17:28:51 -0400 (Wed, 16 Jul 2025) EndedAt: 2025-07-16 17:35:46 -0400 (Wed, 16 Jul 2025) EllapsedTime: 415.0 seconds RetCode: 0 Status: OK PackageFile: MEAL_1.39.0.tar.gz PackageFileSize: 2.067 MiB