Package: MDTS Version: 1.29.0 Command: /home/biocbuild/R/R/bin/R CMD build --keep-empty-dirs --no-resave-data MDTS StartedAt: 2025-07-25 01:46:55 -0000 (Fri, 25 Jul 2025) EndedAt: 2025-07-25 01:47:43 -0000 (Fri, 25 Jul 2025) EllapsedTime: 48.0 seconds RetCode: 0 Status: OK PackageFile: MDTS_1.29.0.tar.gz PackageFileSize: 31.87 KiB