Package: MDTS Version: 1.29.0 Command: F:\biocbuild\bbs-3.22-bioc\R\bin\R.exe CMD INSTALL MDTS StartedAt: 2025-07-01 16:34:08 -0400 (Tue, 01 Jul 2025) EndedAt: 2025-07-01 16:34:41 -0400 (Tue, 01 Jul 2025) EllapsedTime: 32.9 seconds RetCode: 0 Status: OK