Package: MDTS Version: 1.29.0 Command: chmod a+r MDTS -R && F:\biocbuild\bbs-3.22-bioc\R\bin\R.exe CMD build --keep-empty-dirs --no-resave-data MDTS StartedAt: 2025-07-01 20:07:51 -0400 (Tue, 01 Jul 2025) EndedAt: 2025-07-01 20:08:46 -0400 (Tue, 01 Jul 2025) EllapsedTime: 54.7 seconds RetCode: 0 Status: OK PackageFile: MDTS_1.29.0.tar.gz PackageFileSize: 32.05 KiB