Package: MDTS Version: 1.29.0 Command: rm -rf MDTS.buildbin-libdir && mkdir MDTS.buildbin-libdir && F:\biocbuild\bbs-3.22-bioc\R\bin\R.exe CMD INSTALL --build --library=MDTS.buildbin-libdir MDTS_1.29.0.tar.gz StartedAt: 2025-07-02 09:13:41 -0400 (Wed, 02 Jul 2025) EndedAt: 2025-07-02 09:14:11 -0400 (Wed, 02 Jul 2025) EllapsedTime: 29.8 seconds RetCode: 0 Status: OK PackageFile: MDTS_1.29.0.zip PackageFileSize: 86.09 KiB