Package: MDTS Version: 1.29.0 Command: /Library/Frameworks/R.framework/Resources/bin/R CMD INSTALL MDTS StartedAt: 2025-07-01 15:13:15 -0400 (Tue, 01 Jul 2025) EndedAt: 2025-07-01 15:13:25 -0400 (Tue, 01 Jul 2025) EllapsedTime: 10.4 seconds RetCode: 0 Status: OK