Package: MDTS Version: 1.29.0 Command: rm -rf MDTS.buildbin-libdir && mkdir MDTS.buildbin-libdir && /Users/biocbuild/BBS/utils/build-universal.sh MDTS_1.29.0.tar.gz /Library/Frameworks/R.framework/Resources/bin/R MDTS.buildbin-libdir StartedAt: 2025-07-01 22:24:21 -0400 (Tue, 01 Jul 2025) EndedAt: 2025-07-01 22:24:32 -0400 (Tue, 01 Jul 2025) EllapsedTime: 11.2 seconds RetCode: 0 Status: OK PackageFile: MDTS_1.29.0.tgz PackageFileSize: 80.36 KiB