Package: MCbiclust Version: 1.33.0 Command: /home/biocbuild/R/R/bin/R CMD INSTALL MCbiclust StartedAt: 2025-10-06 21:05:10 -0000 (Mon, 06 Oct 2025) EndedAt: 2025-10-06 21:05:38 -0000 (Mon, 06 Oct 2025) EllapsedTime: 28.8 seconds RetCode: 0 Status: OK