Package: MCbiclust Version: 1.33.0 Command: /Library/Frameworks/R.framework/Resources/bin/R CMD INSTALL MCbiclust StartedAt: 2025-10-06 15:34:18 -0400 (Mon, 06 Oct 2025) EndedAt: 2025-10-06 15:34:49 -0400 (Mon, 06 Oct 2025) EllapsedTime: 30.5 seconds RetCode: 0 Status: OK