Package: MCbiclust Version: 1.33.0 Command: /Library/Frameworks/R.framework/Resources/bin/R CMD build --keep-empty-dirs --no-resave-data MCbiclust StartedAt: 2025-10-06 17:42:59 -0400 (Mon, 06 Oct 2025) EndedAt: 2025-10-06 17:44:39 -0400 (Mon, 06 Oct 2025) EllapsedTime: 100.0 seconds RetCode: 0 Status: OK PackageFile: MCbiclust_1.33.0.tar.gz PackageFileSize: 6.561 MiB