Package: MBttest Version: 1.37.0 Command: /home/biocbuild/R/R/bin/R CMD INSTALL MBttest StartedAt: 2025-07-14 20:12:29 -0000 (Mon, 14 Jul 2025) EndedAt: 2025-07-14 20:12:51 -0000 (Mon, 14 Jul 2025) EllapsedTime: 21.9 seconds RetCode: 0 Status: OK