Package: MBttest Version: 1.37.0 Command: /home/biocbuild/R/R/bin/R CMD build --keep-empty-dirs --no-resave-data MBttest StartedAt: 2025-07-15 00:46:17 -0000 (Tue, 15 Jul 2025) EndedAt: 2025-07-15 00:46:41 -0000 (Tue, 15 Jul 2025) EllapsedTime: 24.0 seconds RetCode: 0 Status: OK PackageFile: MBttest_1.37.0.tar.gz PackageFileSize: 3.437 MiB