Package: MBttest Version: 1.37.0 Command: chmod a+r MBttest -R && F:\biocbuild\bbs-3.22-bioc\R\bin\R.exe CMD build --keep-empty-dirs --no-resave-data MBttest StartedAt: 2025-07-22 20:09:17 -0400 (Tue, 22 Jul 2025) EndedAt: 2025-07-22 20:09:49 -0400 (Tue, 22 Jul 2025) EllapsedTime: 32.1 seconds RetCode: 0 Status: OK PackageFile: MBttest_1.37.0.tar.gz PackageFileSize: 3.45 MiB