Package: MBttest Version: 1.37.0 Command: /Library/Frameworks/R.framework/Resources/bin/R CMD check --install=check:MBttest.install-out.txt --library=/Library/Frameworks/R.framework/Resources/library --no-vignettes --timings MBttest_1.37.0.tar.gz StartedAt: 2025-07-14 19:59:09 -0400 (Mon, 14 Jul 2025) EndedAt: 2025-07-14 19:59:23 -0400 (Mon, 14 Jul 2025) EllapsedTime: 14.2 seconds RetCode: 0 Status: OK CheckDir: MBttest.Rcheck Warnings: 0