Package: MBQN Version: 2.21.0 Command: chmod a+r MBQN -R && F:\biocbuild\bbs-3.22-bioc\R\bin\R.exe CMD build --keep-empty-dirs --no-resave-data MBQN StartedAt: 2025-08-14 21:16:09 -0400 (Thu, 14 Aug 2025) EndedAt: 2025-08-14 21:16:27 -0400 (Thu, 14 Aug 2025) EllapsedTime: 18.4 seconds RetCode: 0 Status: OK PackageFile: MBQN_2.21.0.tar.gz PackageFileSize: 78.45 KiB