Package: MBQN Version: 2.21.0 Command: rm -rf MBQN.buildbin-libdir && mkdir MBQN.buildbin-libdir && F:\biocbuild\bbs-3.22-bioc\R\bin\R.exe CMD INSTALL --build --library=MBQN.buildbin-libdir MBQN_2.21.0.tar.gz StartedAt: 2025-08-15 10:38:21 -0400 (Fri, 15 Aug 2025) EndedAt: 2025-08-15 10:38:29 -0400 (Fri, 15 Aug 2025) EllapsedTime: 8.1 seconds RetCode: 0 Status: OK PackageFile: MBQN_2.21.0.zip PackageFileSize: 142.3 KiB