Package: MBQN Version: 2.21.0 Command: /home/biocbuild/bbs-3.22-bioc/R/bin/R CMD check --install=check:MBQN.install-out.txt --library=/home/biocbuild/bbs-3.22-bioc/R/site-library --timings MBQN_2.21.0.tar.gz StartedAt: 2025-07-23 02:44:33 -0400 (Wed, 23 Jul 2025) EndedAt: 2025-07-23 02:45:02 -0400 (Wed, 23 Jul 2025) EllapsedTime: 29.1 seconds RetCode: 0 Status: OK CheckDir: MBQN.Rcheck Warnings: 0