Package: MBQN Version: 2.21.0 Command: /Library/Frameworks/R.framework/Resources/bin/R CMD build --keep-empty-dirs --no-resave-data MBQN StartedAt: 2025-07-22 17:22:32 -0400 (Tue, 22 Jul 2025) EndedAt: 2025-07-22 17:22:44 -0400 (Tue, 22 Jul 2025) EllapsedTime: 12.5 seconds RetCode: 0 Status: OK PackageFile: MBQN_2.21.0.tar.gz PackageFileSize: 220.6 KiB