Package: MBECS Version: 1.13.0 Command: /home/biocbuild/R/R/bin/R CMD INSTALL MBECS StartedAt: 2025-07-24 21:30:53 -0000 (Thu, 24 Jul 2025) EndedAt: 2025-07-24 21:31:19 -0000 (Thu, 24 Jul 2025) EllapsedTime: 26.3 seconds RetCode: 0 Status: OK