Package: MBECS Version: 1.13.0 Command: /home/biocbuild/R/R/bin/R CMD build --keep-empty-dirs --no-resave-data MBECS StartedAt: 2025-07-25 01:44:35 -0000 (Fri, 25 Jul 2025) EndedAt: 2025-07-25 01:46:03 -0000 (Fri, 25 Jul 2025) EllapsedTime: 88.0 seconds RetCode: 0 Status: OK PackageFile: MBECS_1.13.0.tar.gz PackageFileSize: 1.487 MiB