Package: MBECS Version: 1.13.0 Command: /home/biocbuild/bbs-3.22-bioc/R/bin/R CMD check --install=check:MBECS.install-out.txt --library=/home/biocbuild/bbs-3.22-bioc/R/site-library --timings MBECS_1.13.0.tar.gz StartedAt: 2025-07-01 23:44:40 -0400 (Tue, 01 Jul 2025) EndedAt: 2025-07-01 23:49:16 -0400 (Tue, 01 Jul 2025) EllapsedTime: 275.2 seconds RetCode: 0 Status: OK CheckDir: MBECS.Rcheck Warnings: 0