Package: MBECS Version: 1.13.0 Command: /Library/Frameworks/R.framework/Resources/bin/R CMD INSTALL MBECS StartedAt: 2025-07-21 15:24:20 -0400 (Mon, 21 Jul 2025) EndedAt: 2025-07-21 15:24:48 -0400 (Mon, 21 Jul 2025) EllapsedTime: 27.3 seconds RetCode: 0 Status: OK