Package: MBECS Version: 1.13.0 Command: /Library/Frameworks/R.framework/Resources/bin/R CMD check --install=check:MBECS.install-out.txt --library=/Library/Frameworks/R.framework/Resources/library --no-vignettes --timings MBECS_1.13.0.tar.gz StartedAt: 2025-07-21 21:41:41 -0400 (Mon, 21 Jul 2025) EndedAt: 2025-07-21 21:46:16 -0400 (Mon, 21 Jul 2025) EllapsedTime: 275.2 seconds RetCode: 0 Status: OK CheckDir: MBECS.Rcheck Warnings: 0