Package: MBECS Version: 1.13.0 Command: /Library/Frameworks/R.framework/Resources/bin/R CMD build --keep-empty-dirs --no-resave-data MBECS StartedAt: 2025-07-21 17:20:02 -0400 (Mon, 21 Jul 2025) EndedAt: 2025-07-21 17:21:08 -0400 (Mon, 21 Jul 2025) EllapsedTime: 66.3 seconds RetCode: 0 Status: OK PackageFile: MBECS_1.13.0.tar.gz PackageFileSize: 1.725 MiB