Package: MBECS Version: 1.13.0 Command: /Library/Frameworks/R.framework/Resources/bin/R CMD check --install=check:MBECS.install-out.txt --library=/Library/Frameworks/R.framework/Resources/library --no-vignettes --timings MBECS_1.13.0.tar.gz StartedAt: 2025-10-08 20:21:15 -0400 (Wed, 08 Oct 2025) EndedAt: 2025-10-08 20:22:54 -0400 (Wed, 08 Oct 2025) EllapsedTime: 99.2 seconds RetCode: 0 Status: OK CheckDir: MBECS.Rcheck Warnings: 0