Package: MBCB Version: 1.63.0 Command: /home/biocbuild/R/R/bin/R CMD build --keep-empty-dirs --no-resave-data MBCB StartedAt: 2025-07-25 01:44:28 -0000 (Fri, 25 Jul 2025) EndedAt: 2025-07-25 01:44:35 -0000 (Fri, 25 Jul 2025) EllapsedTime: 7.0 seconds RetCode: 0 Status: OK PackageFile: MBCB_1.63.0.tar.gz PackageFileSize: 403.1 KiB