Package: MBAmethyl Version: 1.43.0 Command: /Library/Frameworks/R.framework/Resources/bin/R CMD build --keep-empty-dirs --no-resave-data MBAmethyl StartedAt: 2025-07-16 16:46:47 -0400 (Wed, 16 Jul 2025) EndedAt: 2025-07-16 16:46:53 -0400 (Wed, 16 Jul 2025) EllapsedTime: 6.1 seconds RetCode: 0 Status: OK PackageFile: MBAmethyl_1.43.0.tar.gz PackageFileSize: 86.97 KiB