Package: MAST Version: 1.35.2 Command: /Library/Frameworks/R.framework/Resources/bin/R CMD check --install=check:MAST.install-out.txt --library=/Library/Frameworks/R.framework/Resources/library --no-vignettes --timings MAST_1.35.2.tar.gz StartedAt: 2025-10-21 22:59:51 -0400 (Tue, 21 Oct 2025) EndedAt: 2025-10-21 23:05:19 -0400 (Tue, 21 Oct 2025) EllapsedTime: 328.3 seconds RetCode: 0 Status: OK CheckDir: MAST.Rcheck Warnings: 0