Package: MAST Version: 1.35.2 Command: rm -rf MAST.buildbin-libdir && mkdir MAST.buildbin-libdir && /Users/biocbuild/BBS/utils/build-universal.sh MAST_1.35.2.tar.gz /Library/Frameworks/R.framework/Resources/bin/R MAST.buildbin-libdir StartedAt: 2025-10-22 02:32:42 -0400 (Wed, 22 Oct 2025) EndedAt: 2025-10-22 02:33:43 -0400 (Wed, 22 Oct 2025) EllapsedTime: 61.3 seconds RetCode: 0 Status: OK PackageFile: MAST_1.35.2.tgz PackageFileSize: 7.859 MiB