Package: MAPFX Version: 1.5.0 Command: /home/biocbuild/R/R/bin/R CMD INSTALL MAPFX StartedAt: 2025-07-17 20:25:09 -0000 (Thu, 17 Jul 2025) EndedAt: 2025-07-17 20:25:37 -0000 (Thu, 17 Jul 2025) EllapsedTime: 27.3 seconds RetCode: 0 Status: OK