Package: MAPFX Version: 1.5.0 Command: /home/biocbuild/R/R/bin/R CMD build --keep-empty-dirs --no-resave-data MAPFX StartedAt: 2025-07-18 00:50:01 -0000 (Fri, 18 Jul 2025) EndedAt: 2025-07-18 00:59:33 -0000 (Fri, 18 Jul 2025) EllapsedTime: 571.3 seconds RetCode: 0 Status: OK PackageFile: MAPFX_1.5.0.tar.gz PackageFileSize: 3.569 MiB