Package: MAPFX Version: 1.5.0 Command: F:\biocbuild\bbs-3.22-bioc\R\bin\R.exe CMD check --no-multiarch --install=check:MAPFX.install-out.txt --library=F:\biocbuild\bbs-3.22-bioc\R\library --no-vignettes --timings MAPFX_1.5.0.tar.gz StartedAt: 2025-07-21 03:35:35 -0400 (Mon, 21 Jul 2025) EndedAt: 2025-07-21 03:52:45 -0400 (Mon, 21 Jul 2025) EllapsedTime: 1030.8 seconds RetCode: 0 Status: OK CheckDir: MAPFX.Rcheck Warnings: 0