Package: MAPFX Version: 1.5.0 Command: chmod a+r MAPFX -R && F:\biocbuild\bbs-3.22-bioc\R\bin\R.exe CMD build --keep-empty-dirs --no-resave-data MAPFX StartedAt: 2025-07-20 20:02:45 -0400 (Sun, 20 Jul 2025) EndedAt: 2025-07-20 20:15:54 -0400 (Sun, 20 Jul 2025) EllapsedTime: 789.4 seconds RetCode: 0 Status: OK PackageFile: MAPFX_1.5.0.tar.gz PackageFileSize: 3.543 MiB