Package: MAPFX Version: 1.5.0 Command: rm -rf MAPFX.buildbin-libdir && mkdir MAPFX.buildbin-libdir && F:\biocbuild\bbs-3.22-bioc\R\bin\R.exe CMD INSTALL --build --library=MAPFX.buildbin-libdir MAPFX_1.5.0.tar.gz StartedAt: 2025-07-21 09:23:27 -0400 (Mon, 21 Jul 2025) EndedAt: 2025-07-21 09:24:04 -0400 (Mon, 21 Jul 2025) EllapsedTime: 37.2 seconds RetCode: 0 Status: OK PackageFile: MAPFX_1.5.0.zip PackageFileSize: 2.509 MiB