Package: MAPFX Version: 1.5.0 Command: /home/biocbuild/bbs-3.22-bioc/R/bin/R CMD check --install=check:MAPFX.install-out.txt --library=/home/biocbuild/bbs-3.22-bioc/R/site-library --timings MAPFX_1.5.0.tar.gz StartedAt: 2025-07-04 23:35:15 -0400 (Fri, 04 Jul 2025) EndedAt: 2025-07-04 23:52:47 -0400 (Fri, 04 Jul 2025) EllapsedTime: 1052.2 seconds RetCode: 0 Status: OK CheckDir: MAPFX.Rcheck Warnings: 0