Package: MAPFX Version: 1.5.0 Command: /home/biocbuild/bbs-3.22-bioc/R/bin/R CMD build --keep-empty-dirs --no-resave-data --md5 MAPFX StartedAt: 2025-07-04 17:50:11 -0400 (Fri, 04 Jul 2025) EndedAt: 2025-07-04 17:57:37 -0400 (Fri, 04 Jul 2025) EllapsedTime: 445.5 seconds RetCode: 0 Status: OK PackageFile: MAPFX_1.5.0.tar.gz PackageFileSize: 3.545 MiB