Package: MAPFX Version: 1.5.0 Command: /Library/Frameworks/R.framework/Resources/bin/R CMD INSTALL MAPFX StartedAt: 2025-07-18 15:07:33 -0400 (Fri, 18 Jul 2025) EndedAt: 2025-07-18 15:07:42 -0400 (Fri, 18 Jul 2025) EllapsedTime: 9.1 seconds RetCode: 0 Status: OK