Package: MAPFX Version: 1.5.0 Command: rm -rf MAPFX.buildbin-libdir && mkdir MAPFX.buildbin-libdir && /Users/biocbuild/BBS/utils/build-universal.sh MAPFX_1.5.0.tar.gz /Library/Frameworks/R.framework/Resources/bin/R MAPFX.buildbin-libdir StartedAt: 2025-07-18 22:27:45 -0400 (Fri, 18 Jul 2025) EndedAt: 2025-07-18 22:27:55 -0400 (Fri, 18 Jul 2025) EllapsedTime: 10.3 seconds RetCode: 0 Status: OK PackageFile: MAPFX_1.5.0.tgz PackageFileSize: 2.506 MiB