Package: MAPFX Version: 1.5.0 Maintainer: Hsiao-Chi Liao MaintainerEmail: chelsea.acad at gmail.com git_url: https://git.bioconductor.org/packages/MAPFX git_branch: devel git_last_commit: 016a45b git_last_commit_date: 2025-04-15 13:35:05 -0400 (Tue, 15 Apr 2025)