Package: MAIT Version: 1.43.0 Command: /home/biocbuild/R/R/bin/R CMD check --install=check:MAIT.install-out.txt --library=/home/biocbuild/R/R/site-library --no-vignettes --timings MAIT_1.43.0.tar.gz StartedAt: 2025-07-22 08:49:51 -0000 (Tue, 22 Jul 2025) EndedAt: 2025-07-22 08:59:17 -0000 (Tue, 22 Jul 2025) EllapsedTime: 565.7 seconds RetCode: 0 Status: OK CheckDir: MAIT.Rcheck Warnings: 0