Package: MAIT Version: 1.43.0 Command: /home/biocbuild/R/R/bin/R CMD build --keep-empty-dirs --no-resave-data MAIT StartedAt: 2025-07-18 00:49:44 -0000 (Fri, 18 Jul 2025) EndedAt: 2025-07-18 00:53:36 -0000 (Fri, 18 Jul 2025) EllapsedTime: 232.1 seconds RetCode: 0 Status: OK PackageFile: MAIT_1.43.0.tar.gz PackageFileSize: 2.361 MiB