Package: MAI Version: 1.15.0 Command: /home/biocbuild/R/R/bin/R CMD INSTALL MAI StartedAt: 2025-07-17 20:42:45 -0000 (Thu, 17 Jul 2025) EndedAt: 2025-07-17 20:43:20 -0000 (Thu, 17 Jul 2025) EllapsedTime: 35.3 seconds RetCode: 0 Status: OK