Package: MAI Version: 1.15.0 Command: /Library/Frameworks/R.framework/Resources/bin/R CMD build --keep-empty-dirs --no-resave-data MAI StartedAt: 2025-07-14 17:28:25 -0400 (Mon, 14 Jul 2025) EndedAt: 2025-07-14 17:33:23 -0400 (Mon, 14 Jul 2025) EllapsedTime: 298.1 seconds RetCode: 0 Status: OK PackageFile: MAI_1.15.0.tar.gz PackageFileSize: 452.1 KiB