Package: MAI Version: 1.15.0 Command: /Library/Frameworks/R.framework/Resources/bin/R CMD build --keep-empty-dirs --no-resave-data MAI StartedAt: 2025-07-16 16:45:22 -0400 (Wed, 16 Jul 2025) EndedAt: 2025-07-16 16:47:03 -0400 (Wed, 16 Jul 2025) EllapsedTime: 101.1 seconds RetCode: 0 Status: OK PackageFile: MAI_1.15.0.tar.gz PackageFileSize: 451.8 KiB