Package: MAGeCKFlute Version: 2.11.1 Command: chmod a+r MAGeCKFlute -R && F:\biocbuild\bbs-3.22-bioc\R\bin\R.exe CMD build --keep-empty-dirs --no-resave-data MAGeCKFlute StartedAt: 2025-04-08 20:14:34 -0400 (Tue, 08 Apr 2025) EndedAt: 2025-04-08 20:20:52 -0400 (Tue, 08 Apr 2025) EllapsedTime: 378.2 seconds RetCode: 1 Status: ERROR PackageFile: None PackageFileSize: NA