Package: MAGeCKFlute Version: 2.11.1 Command: /home/biocbuild/bbs-3.22-bioc/R/bin/R CMD INSTALL MAGeCKFlute StartedAt: 2025-04-08 15:51:25 -0400 (Tue, 08 Apr 2025) EndedAt: 2025-04-08 15:51:56 -0400 (Tue, 08 Apr 2025) EllapsedTime: 31.2 seconds RetCode: 0 Status: OK