Package: MAGeCKFlute Version: 2.11.1 Command: /home/biocbuild/bbs-3.22-bioc/R/bin/R CMD build --keep-empty-dirs --no-resave-data --md5 MAGeCKFlute StartedAt: 2025-04-08 17:57:59 -0400 (Tue, 08 Apr 2025) EndedAt: 2025-04-08 18:00:16 -0400 (Tue, 08 Apr 2025) EllapsedTime: 137.2 seconds RetCode: 1 Status: ERROR PackageFile: None PackageFileSize: NA